BEGIN:VCALENDAR
VERSION:2.0
PRODID:-//wp-events-plugin.com//7.2.3.1//EN
TZID:America/Denver
X-WR-TIMEZONE:America/Denver
BEGIN:VEVENT
UID:11-7336@theatre.colostate.edu
DTSTART;TZID=America/Denver:20140824T190000
DTEND;TZID=America/Denver:20140824T210000
DTSTAMP:20250506T190851Z
URL:https://theatre.colostate.edu/events/19502-2014-08-24/
SUMMARY:Shakespeare at Sunset: The Complete Works of William Shakespeare (a
 bridged)
DESCRIPTION:All 37 of Shakespeare’s Plays in 90 Minutes! An irreverent\, 
 messy\, fast-paced romp\, The Complete Works of William Shakespeare (abri
 dged) was London’s longest-running comedy\, running nine years in the We
 st End at the Criterion Theatre! CSU’s production boasts two different c
 asts (one all-female\, one all-male)\, both of which will leave you shakin
 g with laughter. How does the show change with the different casts? You’
 ll have to come to BOTH to find out! Join us this summer as a trio of madc
 ap men (and women) in tights plows their way through all of Shakespeare’
 s Comedies\, Histories and Tragedies. It’s going to be a wild ride you d
 on’t want to miss!
ATTACH;FMTTYPE=image/jpeg:https://theatre.colostate.edu/wp-content/uploads
 /sites/11/2014/05/CSU-14-15-Season-posters_061014_SHAKES_OUT.jpg
LOCATION:University Theatre\, University Center for the Arts\, 1400 Remingt
 on Street\, Fort Collins\, Colorado\, 80524\, United States
GEO:40.5692704;-105.07477849999998
X-APPLE-STRUCTURED-LOCATION;VALUE=URI;X-ADDRESS=1400 Remington Street\, For
 t Collins\, Colorado\, 80524\, United States;X-APPLE-RADIUS=100;X-TITLE=Un
 iversity Theatre\, University Center for the Arts:geo:40.5692704,-105.0747
 7849999998
END:VEVENT
BEGIN:VTIMEZONE
TZID:America/Denver
X-LIC-LOCATION:America/Denver
BEGIN:DAYLIGHT
DTSTART:20140309T030000
TZOFFSETFROM:-0700
TZOFFSETTO:-0600
TZNAME:MDT
END:DAYLIGHT
END:VTIMEZONE
END:VCALENDAR