BEGIN:VCALENDAR
VERSION:2.0
PRODID:-//wp-events-plugin.com//7.2.3.1//EN
TZID:America/Denver
X-WR-TIMEZONE:America/Denver
BEGIN:VEVENT
UID:11-18426@theatre.colostate.edu
DTSTART;TZID=America/Denver:20241203T180000
DTEND;TZID=America/Denver:20241203T190000
DTSTAMP:20241202T172349Z
URL:https://theatre.colostate.edu/events/2024-freshman-theatre-project-fre
 e/
SUMMARY:2024 Freshman Theatre Project / FREE
DESCRIPTION:As a way for first-year theatre students to solidify themselves
  in the program\, the students from the First-Year Seminar create and perf
 orm a devised production of their own.\n\nThe performance is in the Studio
  Theatre at the UCA.
ATTACH;FMTTYPE=image/jpeg:https://theatre.colostate.edu/wp-content/uploads
 /sites/11/2013/12/UCAGeneral-.jpg
CATEGORIES:College of Liberal Arts Featured Events
LOCATION:Studio Theatre\, University Center for the Arts\, 1400 Remington S
 t.\, Fort Collins\, CO\, 80524\, United States
GEO:40.5692704;-105.07477849999998
X-APPLE-STRUCTURED-LOCATION;VALUE=URI;X-ADDRESS=1400 Remington St.\, Fort C
 ollins\, CO\, 80524\, United States;X-APPLE-RADIUS=100;X-TITLE=Studio Thea
 tre\, University Center for the Arts:geo:40.5692704,-105.07477849999998
END:VEVENT
BEGIN:VTIMEZONE
TZID:America/Denver
X-LIC-LOCATION:America/Denver
BEGIN:STANDARD
DTSTART:20241103T010000
TZOFFSETFROM:-0600
TZOFFSETTO:-0700
TZNAME:MST
END:STANDARD
END:VTIMEZONE
END:VCALENDAR