BEGIN:VCALENDAR
VERSION:2.0
PRODID:-//wp-events-plugin.com//7.2.3.1//EN
TZID:America/Denver
X-WR-TIMEZONE:America/Denver
BEGIN:VEVENT
UID:11-19195@theatre.colostate.edu
DTSTART;TZID=America/Denver:20251209T180000
DTEND;TZID=America/Denver:20251209T190000
DTSTAMP:20251204T181029Z
URL:https://theatre.colostate.edu/events/freshman-theatre-project-2/
SUMMARY:First Year Theatre Project
DESCRIPTION:CSU Theatre presents the annual First Year Theatre Project. As 
 a way for first-year theatre students to solidify themselves in the progra
 m\, the students from Professor Wesley Longacre Freshman Seminar create an
 d perform a derived production of their own.
ATTACH;FMTTYPE=image/jpeg:https://theatre.colostate.edu/wp-content/uploads
 /sites/11/2013/12/UCAGeneral-.jpg
CATEGORIES:College of Liberal Arts Featured Events
LOCATION:University Theatre\, University Center for the Arts\, 1400 Remingt
 on Street\, Fort Collins\, Colorado\, 80524\, United States
GEO:40.5692704;-105.07477849999998
X-APPLE-STRUCTURED-LOCATION;VALUE=URI;X-ADDRESS=1400 Remington Street\, For
 t Collins\, Colorado\, 80524\, United States;X-APPLE-RADIUS=100;X-TITLE=Un
 iversity Theatre\, University Center for the Arts:geo:40.5692704,-105.0747
 7849999998
END:VEVENT
BEGIN:VTIMEZONE
TZID:America/Denver
X-LIC-LOCATION:America/Denver
BEGIN:STANDARD
DTSTART:20251102T010000
TZOFFSETFROM:-0600
TZOFFSETTO:-0700
TZNAME:MST
END:STANDARD
END:VTIMEZONE
END:VCALENDAR